BEGIN:VCALENDAR
VERSION:2.0
PRODID:-//hacksw/handcal//NONSGML v1.0//EN
CALSCALE:GREGORIAN
BEGIN:VTIMEZONE
TZID:America/New_York
BEGIN:DAYLIGHT
TZOFFSETFROM:-0600
TZNAME:MDT
TZOFFSETTO:-0600
END:DAYLIGHT
END:VTIMEZONE
DTSTAMP:20260423T072955Z
UID:69ea02b3668c2
BEGIN:VEVENT
DESCRIPTION:<div class="field field-name-body field-type-text-with-summary field-label-hidden"><div class="field-items"><div class="field-item even" property="content:encoded"><p>Our monthly book club, in partnership with the Ferndale Project, meets on the last Tuesday of each month. This event is hosted AT the Ferndale Project at 567 Livernois.</p><p><a href="https://events.getlocalhop.com/ferndale-project-book-club/event/yqpNIBZwAR/"><span style="-webkit-text-stroke-width:0px;color:rgb(39, 40, 51);display:inline !important;float:none;font-family:Lato, Helvetica, Arial, sans-serif;font-size:16px;font-style:normal;font-variant-caps:normal;font-variant-ligatures:normal;font-weight:400;letter-spacing:normal;orphans:2;text-align:left;text-decoration-color:initial;text-decoration-style:initial;text-decoration-thickness:initial;text-indent:0px;text-transform:none;white-space:normal;widows:2;word-spacing:0px;">Join us</span></a><span style="-webkit-text-stroke-width:0px;color:rgb(39, 40, 51);display:inline !important;float:none;font-family:Lato, Helvetica, Arial, sans-serif;font-size:16px;font-style:normal;font-variant-caps:normal;font-variant-ligatures:normal;font-weight:400;letter-spacing:normal;orphans:2;text-align:left;text-decoration-color:initial;text-decoration-style:initial;text-decoration-thickness:initial;text-indent:0px;text-transform:none;white-space:normal;widows:2;word-spacing:0px;"> for an in-person book club event discussing </span><em style="-webkit-tap-highlight-color:rgba(0, 0, 0, 0);-webkit-text-stroke-width:0px;background-color:transparent;border-width:0px;box-sizing:border-box;color:rgb(39, 40, 51);font-family:Lato, Helvetica, Arial, sans-serif;font-size:16px;font-variant-caps:normal;font-variant-ligatures:normal;font-weight:400;letter-spacing:normal;line-height:inherit;margin:0px;orphans:2;outline:none;padding:0px;text-align:left;text-decoration-color:initial;text-decoration-style:initial;text-decoration-thickness:initial;text-indent:0px;text-transform:none;white-space:normal;widows:2;word-spacing:0px;">Enshittification </em>by Cory Doctorow, <span style="-webkit-text-stroke-width:0px;color:rgb(39, 40, 51);display:inline !important;float:none;font-family:Lato, Helvetica, Arial, sans-serif;font-size:16px;font-style:normal;font-variant-caps:normal;font-variant-ligatures:normal;font-weight:400;letter-spacing:normal;orphans:2;text-align:left;text-decoration-color:initial;text-decoration-style:initial;text-decoration-thickness:initial;text-indent:0px;text-transform:none;white-space:normal;widows:2;word-spacing:0px;">on </span><strong style="-webkit-tap-highlight-color:rgba(0, 0, 0, 0);-webkit-text-stroke-width:0px;background-color:transparent;border-width:0px;box-sizing:border-box;color:rgb(39, 40, 51);font-family:Lato, Helvetica, Arial, sans-serif;font-size:16px;font-style:normal;font-variant-caps:normal;font-variant-ligatures:normal;letter-spacing:normal;line-height:inherit;margin:0px;orphans:2;outline:none;padding:0px;text-align:left;text-decoration-color:initial;text-decoration-style:initial;text-decoration-thickness:initial;text-indent:0px;text-transform:none;white-space:normal;widows:2;word-spacing:0px;">TUESDAY, APRIL 28 at 6:30 PM.</strong><span style="-webkit-text-stroke-width:0px;color:rgb(39, 40, 51);display:inline !important;float:none;font-family:Lato, Helvetica, Arial, sans-serif;font-size:16px;font-style:normal;font-variant-caps:normal;font-variant-ligatures:normal;font-weight:400;letter-spacing:normal;orphans:2;text-align:left;text-decoration-color:initial;text-decoration-style:initial;text-decoration-thickness:initial;text-indent:0px;text-transform:none;white-space:normal;widows:2;word-spacing:0px;"></span></p><p>We'll have a few copies reserved at the Ferndale Library circulation desk or you can place a <a href="https://catalog.tln.lib.mi.us/?section=resource&amp;resourceid=5828630027&amp;currentIndex=0&amp;view=fullDetailsDetailsTab">hold</a> online!&nbsp;</p><p><strong>About the book: </strong>Enshittification: it's not just you--the internet sucks now. Here's why, and here's how we can disenshittify.<br>&nbsp;</p><p>Questions? Email us: info@fadl.org &nbsp; &nbsp;</p><p>[Hosted at Ferndale Project]</p><p>&nbsp;</p></div></div></div>
DTSTART;TZID=America/New_York:20260428T183000
DTEND;TZID=America/New_York:20260428T194500
SUMMARY:Ferndale Project Book Club 
URL;VALUE=URI:/fpbc-june
END:VEVENT
END:VCALENDAR