BEGIN:VCALENDAR
VERSION:2.0
PRODID:-//hacksw/handcal//NONSGML v1.0//EN
CALSCALE:GREGORIAN
BEGIN:VTIMEZONE
TZID:America/New_York
BEGIN:DAYLIGHT
TZOFFSETFROM:-0600
TZNAME:MDT
TZOFFSETTO:-0600
END:DAYLIGHT
END:VTIMEZONE
DTSTAMP:20260423T130407Z
UID:69ea510711ce2
BEGIN:VEVENT
LOCATION:Ferndale Area District Library, 222 E 9 Mile Rd, Ferndale, MI US 48220
DESCRIPTION:<p>Fiber Arts Club! An evening for crafters to hangout and work on projects!&nbsp;</p>

<p>Whether it's crochet, knitting, sewing, or needlepoint, you can bring your works in progress to the library on the 4th Monday of each month.&nbsp;</p>

<p>This is a drop-in event, so no registration is required. We'll start at 6pm and wrap up just before 8pm</p>

<p>Questions? Email us: <a href="mailto:kellyh@fadl.org">kellyh@fadl.org</a></p>

DTSTART;TZID=America/New_York:20260427T180000
DTEND;TZID=America/New_York:20260427T194500
SUMMARY: Fiber Arts Club 
URL;VALUE=URI:/fiber
END:VEVENT
END:VCALENDAR